BEGIN:VCALENDAR
VERSION:2.0
PRODID:-//Lunar Rendezvous Festival - ECPv5.10.1//NONSGML v1.0//EN
CALSCALE:GREGORIAN
METHOD:PUBLISH
X-WR-CALNAME:Lunar Rendezvous Festival
X-ORIGINAL-URL:https://lunarrendezvousfestival.org
X-WR-CALDESC:Events for Lunar Rendezvous Festival
BEGIN:VTIMEZONE
TZID:America/Chicago
BEGIN:DAYLIGHT
TZOFFSETFROM:-0600
TZOFFSETTO:-0500
TZNAME:CDT
DTSTART:20230312T080000
END:DAYLIGHT
BEGIN:STANDARD
TZOFFSETFROM:-0500
TZOFFSETTO:-0600
TZNAME:CST
DTSTART:20231105T070000
END:STANDARD
END:VTIMEZONE
BEGIN:VEVENT
DTSTART;VALUE=DATE:20230131
DTEND;VALUE=DATE:20230201
DTSTAMP:20260425T061553
CREATED:20221212T195924Z
LAST-MODIFIED:20221212T195924Z
UID:1231-1675123200-1675209599@lunarrendezvousfestival.org
SUMMARY:11:59 PM-Court Application Deadline
DESCRIPTION:Our system will not process court applications after 11:59 PM\, January 31\, 2023.  You are highly encouraged to submit your application early in the event there are any issues that require attention.
URL:https://lunarrendezvousfestival.org/event/1159-pm-court-application-deadline/
END:VEVENT
END:VCALENDAR