BEGIN:VCALENDAR
VERSION:2.0
PRODID:-//Lunar Rendezvous Festival - ECPv5.10.1//NONSGML v1.0//EN
CALSCALE:GREGORIAN
METHOD:PUBLISH
X-WR-CALNAME:Lunar Rendezvous Festival
X-ORIGINAL-URL:https://lunarrendezvousfestival.org
X-WR-CALDESC:Events for Lunar Rendezvous Festival
BEGIN:VTIMEZONE
TZID:America/Chicago
BEGIN:DAYLIGHT
TZOFFSETFROM:-0600
TZOFFSETTO:-0500
TZNAME:CDT
DTSTART:20220313T080000
END:DAYLIGHT
BEGIN:STANDARD
TZOFFSETFROM:-0500
TZOFFSETTO:-0600
TZNAME:CST
DTSTART:20221106T070000
END:STANDARD
END:VTIMEZONE
BEGIN:VEVENT
DTSTART;TZID=America/Chicago:20220612T150000
DTEND;TZID=America/Chicago:20220612T170000
DTSTAMP:20260422T064908
CREATED:20220517T164024Z
LAST-MODIFIED:20220517T164039Z
UID:1079-1655046000-1655053200@lunarrendezvousfestival.org
SUMMARY:Little Court Par-tee!
DESCRIPTION:Lunar Little court members- it’s time to par-tee!  \nLet’s kick off Summer and the Lunar Rendezvous Festival season with some fun!  \nGolf polos\, shorts/skirts encouraged. \nPlease RSVP to littlecourtchairman@lunarrendezvousfestival.org by May 31st.
URL:https://lunarrendezvousfestival.org/event/little-court-par-tee/
LOCATION:The Reserve\, 13327 Fairfield Arbor Drive\, Houston\, TX\, 77059\, United States
END:VEVENT
END:VCALENDAR