BEGIN:VCALENDAR
VERSION:2.0
PRODID:-//Lunar Rendezvous Festival - ECPv5.10.1//NONSGML v1.0//EN
CALSCALE:GREGORIAN
METHOD:PUBLISH
X-WR-CALNAME:Lunar Rendezvous Festival
X-ORIGINAL-URL:https://lunarrendezvousfestival.org
X-WR-CALDESC:Events for Lunar Rendezvous Festival
BEGIN:VTIMEZONE
TZID:America/Chicago
BEGIN:DAYLIGHT
TZOFFSETFROM:-0600
TZOFFSETTO:-0500
TZNAME:CDT
DTSTART:20220313T080000
END:DAYLIGHT
BEGIN:STANDARD
TZOFFSETFROM:-0500
TZOFFSETTO:-0600
TZNAME:CST
DTSTART:20221106T070000
END:STANDARD
END:VTIMEZONE
BEGIN:VEVENT
DTSTART;TZID=America/Chicago:20220716T113000
DTEND;TZID=America/Chicago:20220716T133000
DTSTAMP:20260421T025910
CREATED:20220518T211323Z
LAST-MODIFIED:20220706T211249Z
UID:1087-1657971000-1657978200@lunarrendezvousfestival.org
SUMMARY:Little Court Tea
DESCRIPTION:An annual tradition\, the Little Court Tea is a delightful event for our Little Court Members that is hosted by the Lunar Rendezvous Festival Royals! \nLadies (in-waiting) & Gents\, grab your big hats and bow ties and join us for a Royal DERBY tea party!  \nPlease RSVP by July 11th\nlittlecourtchairman@lunarrendesvousfestival.org \n \n\nThe little court will be learning the song\, “this little light of mine” to sing at the Sunset Service accompanied by the Royal Court. They are welcome to start practicing now! \n(We will also be going over dining etiquette\, the curtsy\, bow and handshake!)\n\n 
URL:https://lunarrendezvousfestival.org/event/little-court-tea/
LOCATION:Webster Presbyterian Church\, 201 W NASA Pkwy\, Webster\, TX\, 77598\, United States
END:VEVENT
BEGIN:VEVENT
DTSTART;TZID=America/Chicago:20220716T160000
DTEND;TZID=America/Chicago:20220716T180000
DTSTAMP:20260421T025910
CREATED:20220714T230757Z
LAST-MODIFIED:20220714T230757Z
UID:1167-1657987200-1657994400@lunarrendezvousfestival.org
SUMMARY:Big Court Dance Lessons & LinkedIn Class
DESCRIPTION:This is a voluntary\, fun event.  $10 per court member.  Parent or escort are invited at no additional charge! \nDance lessons at 4:00 followed by 5:00 LinkedIn make up class.
URL:https://lunarrendezvousfestival.org/event/big-court-dance-lessons-linkedin-class/
LOCATION:TX
END:VEVENT
END:VCALENDAR