BEGIN:VCALENDAR
VERSION:2.0
PRODID:-//Lunar Rendezvous Festival - ECPv5.10.1//NONSGML v1.0//EN
CALSCALE:GREGORIAN
METHOD:PUBLISH
X-WR-CALNAME:Lunar Rendezvous Festival
X-ORIGINAL-URL:https://lunarrendezvousfestival.org
X-WR-CALDESC:Events for Lunar Rendezvous Festival
BEGIN:VTIMEZONE
TZID:America/Chicago
BEGIN:DAYLIGHT
TZOFFSETFROM:-0600
TZOFFSETTO:-0500
TZNAME:CDT
DTSTART:20260308T080000
END:DAYLIGHT
BEGIN:STANDARD
TZOFFSETFROM:-0500
TZOFFSETTO:-0600
TZNAME:CST
DTSTART:20261101T070000
END:STANDARD
END:VTIMEZONE
BEGIN:VEVENT
DTSTART;TZID=America/Chicago:20260504T150000
DTEND;TZID=America/Chicago:20260504T170000
DTSTAMP:20260425T212725
CREATED:20260413T192347Z
LAST-MODIFIED:20260413T192347Z
UID:7868-1777906800-1777914000@lunarrendezvousfestival.org
SUMMARY:Court Headshots
DESCRIPTION:Today is one of the available days to sign up for your headshot with our festival photographer. Big Court sponsors are welcome to attend so that court members can take a photo together. Be sure to reserve your spot using the link below.  \nHeadshot Sign-Up Link: https://calendly.com/oscar-2010/lunar-rendezvous-studio-session \n 
URL:https://lunarrendezvousfestival.org/event/court-headshots-4/
LOCATION:His and Hers Foto\, 1115 Gemini Avenue\, Suite 207\, Houston\, TX\, 77058\, United States
END:VEVENT
BEGIN:VEVENT
DTSTART;TZID=America/Chicago:20260506T143000
DTEND;TZID=America/Chicago:20260506T180000
DTSTAMP:20260425T212725
CREATED:20260323T184525Z
LAST-MODIFIED:20260413T192157Z
UID:7839-1778077800-1778090400@lunarrendezvousfestival.org
SUMMARY:Court Headshots
DESCRIPTION:Today is one of the available days to sign up for your headshot with our festival photographer. Big Court sponsors are welcome to attend\, so that court members can take a photo together. Be sure to reserve your spot using the link below.  \nHeadshot Sign-Up Link: https://calendly.com/oscar-2010/lunar-rendezvous-studio-session
URL:https://lunarrendezvousfestival.org/event/court-headshots-2/
LOCATION:His and Hers Foto\, 1115 Gemini Avenue\, Suite 207\, Houston\, TX\, 77058\, United States
END:VEVENT
BEGIN:VEVENT
DTSTART;TZID=America/Chicago:20260507T143000
DTEND;TZID=America/Chicago:20260507T180000
DTSTAMP:20260425T212725
CREATED:20260323T184619Z
LAST-MODIFIED:20260413T192246Z
UID:7842-1778164200-1778176800@lunarrendezvousfestival.org
SUMMARY:Court Headshots
DESCRIPTION:Today is one of the available days to sign up for your headshot with our festival photographer. Big Court sponsors are welcome to attend\, so that court members can take a photo together. Be sure to reserve your spot using the link below.  \nHeadshot Sign-Up Link: https://calendly.com/oscar-2010/lunar-rendezvous-studio-session
URL:https://lunarrendezvousfestival.org/event/court-headshots-3/
LOCATION:His and Hers Foto\, 1115 Gemini Avenue\, Suite 207\, Houston\, TX\, 77058\, United States
END:VEVENT
BEGIN:VEVENT
DTSTART;TZID=America/Chicago:20260520T180000
DTEND;TZID=America/Chicago:20260520T193000
DTSTAMP:20260425T212725
CREATED:20251126T020110Z
LAST-MODIFIED:20251126T020110Z
UID:7681-1779300000-1779305400@lunarrendezvousfestival.org
SUMMARY:Advisory Board Meeting
DESCRIPTION:This meeting is for our LRF Advisory Board members only.
URL:https://lunarrendezvousfestival.org/event/advisory-board-meeting-21/
LOCATION:TX
END:VEVENT
BEGIN:VEVENT
DTSTART;VALUE=DATE:20260528
DTEND;VALUE=DATE:20260529
DTSTAMP:20260425T212725
CREATED:20251126T010305Z
LAST-MODIFIED:20251126T010305Z
UID:7653-1779926400-1780012799@lunarrendezvousfestival.org
SUMMARY:Ad Deadline TODAY!
DESCRIPTION:If you are purchasing an ad for the Fashion Show or Coronation Ball\, it is due TODAY by 11:59 PM! Ad orders are submitted through the website. \nLink to order Program Ads: Coming soon!
URL:https://lunarrendezvousfestival.org/event/ad-deadline-today-3/
LOCATION:TX
END:VEVENT
END:VCALENDAR