BEGIN:VCALENDAR
VERSION:2.0
PRODID:-//Lunar Rendezvous Festival - ECPv5.10.1//NONSGML v1.0//EN
CALSCALE:GREGORIAN
METHOD:PUBLISH
X-WR-CALNAME:Lunar Rendezvous Festival
X-ORIGINAL-URL:https://lunarrendezvousfestival.org
X-WR-CALDESC:Events for Lunar Rendezvous Festival
BEGIN:VTIMEZONE
TZID:America/Chicago
BEGIN:DAYLIGHT
TZOFFSETFROM:-0600
TZOFFSETTO:-0500
TZNAME:CDT
DTSTART:20260308T080000
END:DAYLIGHT
BEGIN:STANDARD
TZOFFSETFROM:-0500
TZOFFSETTO:-0600
TZNAME:CST
DTSTART:20261101T070000
END:STANDARD
END:VTIMEZONE
BEGIN:VEVENT
DTSTART;TZID=America/Chicago:20260615T180000
DTEND;TZID=America/Chicago:20260615T210000
DTSTAMP:20260425T230032
CREATED:20260115T011825Z
LAST-MODIFIED:20260115T011825Z
UID:7753-1781546400-1781557200@lunarrendezvousfestival.org
SUMMARY:Dining Night
DESCRIPTION:More information to come!
URL:https://lunarrendezvousfestival.org/event/dining-night-3/
LOCATION:Parkwood American Grille\, 2131 W Parkwood Avenue\, Friendswood\, TX\, 77546
END:VEVENT
BEGIN:VEVENT
DTSTART;TZID=America/Chicago:20260617T180000
DTEND;TZID=America/Chicago:20260617T193000
DTSTAMP:20260425T230032
CREATED:20251126T020201Z
LAST-MODIFIED:20251126T020201Z
UID:7683-1781719200-1781724600@lunarrendezvousfestival.org
SUMMARY:Advisory Board Meeting
DESCRIPTION:This meeting is for our LRF Advisory Board members only.
URL:https://lunarrendezvousfestival.org/event/advisory-board-meeting-22/
LOCATION:TX
END:VEVENT
BEGIN:VEVENT
DTSTART;TZID=America/Chicago:20260628T140000
DTEND;TZID=America/Chicago:20260628T180000
DTSTAMP:20260425T230032
CREATED:20251202T183852Z
LAST-MODIFIED:20260310T195056Z
UID:7693-1782655200-1782669600@lunarrendezvousfestival.org
SUMMARY:Pickleball Tournament
DESCRIPTION:Join our 3rd Annual Pickleball Tournament\, Dinks\, Drinks & Doing Good\, to serve up your best rally for an amazing cause! Proceeds will help provide need-based scholarships for higher education and grants for other local non-profit organizations\, positively impacting our community. \n\nMore info to come!\n\nBe part of something special. Let’s play\, cheer\, and make a difference together! See you on the courts!
URL:https://lunarrendezvousfestival.org/event/pickleball-tournament-3/
LOCATION:Chicken N Pickle – Webster\, 210 Blue Heron Drive\, Webster\, TX\, 77598\, United States
END:VEVENT
END:VCALENDAR